BEGIN:VCALENDAR
PRODID:-//kirchenweb.ch gmbh//veranstaltungsausgabe v2.0//DE
VERSION:2.0
METHOD:PUBLISH
BEGIN:VEVENT
DTSTART;VALUE=DATE:20260822
DTEND;VALUE=DATE:20260823
LOCATION:noch unklar\, \,
TRANSP:OPAQUE
SEQUENCE:0
UID:196987-veranstaltung@ref-sh.ch
DTSTAMP:20260415T140605Z
DESCRIPTION:Jugendgruppe der Jungen Kirche Klettgau (ab 16)\nGenauere
  Infos folgen in der Woche vor dem Event.\nInfos zur JG finden Sie auch im
  https://chat.whatsapp.com/FV1WXsyqG9n2CggeRlMxzB oder auf
  https://www.instagram.com/jugendgruppe_jkk/\n\n\nKontakt: Martin
  Schnetzler\n\nWeitere Infos: https://www.ref-sh.ch/veranstaltung/196987
SUMMARY:Jugendgruppe JKK
PRIORITY:5
X-MICROSOFT-CDO-IMPORTANCE:1
CLASS:PUBLIC
END:VEVENT
END:VCALENDAR
