BEGIN:VCALENDAR
PRODID:-//kirchenweb.ch gmbh//veranstaltungsausgabe v2.0//DE
VERSION:2.0
METHOD:PUBLISH
BEGIN:VEVENT
DTSTART:20260927T080000Z
DTEND:20260927T090000Z
LOCATION:Vor der Trotte Löhningen\, Schulgasse 21\, 8224 Löhningen
TRANSP:OPAQUE
SEQUENCE:0
UID:186826-veranstaltung@ref-sh.ch
DTSTAMP:20260210T075152Z
DESCRIPTION:Familiengottesdienst zum Trottenfest Löhningen vor der
  Trotte\, vorbereitet vom ökumenischen Trottenfestgottesdienst-Team und
  Pfarrer Lukas Huber. Thema: das Trottenfest-Motto . Während der Predigt
  gibt es für die Kinder die Möglichkeit\, mit dem Team etwas zu basteln.
 \n\nTeam: Irene Walter\, Lisi Spörndli und Andrea Straub.\n\nDer
  Gottesdienst findet bei schönem Wetter vor der
  https://map.search.ch/d/mrlyzy0zt statt.\n\nBei Regen findet der
  Gottesdienst in der
  https://map.search.ch/Löhningen\,Kloster-14@683630\,283758 statt. Bei
  unsicherer Witterung gibt das Kirchen-Informationtelefon am Sonntagmorgen
  Auskunft: +41 76 813 82 23.\n\n\nKontakt: Pfarrer Lukas Huber\n\nWeitere
  Infos: https://www.ref-sh.ch/veranstaltung/186826
SUMMARY:Familiengottesdienst zum Trottenfest
PRIORITY:5
X-MICROSOFT-CDO-IMPORTANCE:1
CLASS:PUBLIC
END:VEVENT
END:VCALENDAR
